BEGIN:VCALENDAR
VERSION:2.0
PRODID:-//European Brain Council (EBC) - ECPv6.15.19//NONSGML v1.0//EN
CALSCALE:GREGORIAN
METHOD:PUBLISH
X-WR-CALNAME:European Brain Council (EBC)
X-ORIGINAL-URL:https://www.braincouncil.eu
X-WR-CALDESC:Events for European Brain Council (EBC)
REFRESH-INTERVAL;VALUE=DURATION:PT1H
X-Robots-Tag:noindex
X-PUBLISHED-TTL:PT1H
BEGIN:VTIMEZONE
TZID:UTC
BEGIN:STANDARD
TZOFFSETFROM:+0000
TZOFFSETTO:+0000
TZNAME:UTC
DTSTART:20250101T000000
END:STANDARD
END:VTIMEZONE
BEGIN:VEVENT
DTSTART;VALUE=DATE:20260119
DTEND;VALUE=DATE:20260124
DTSTAMP:20260423T103912
CREATED:20260108T124158Z
LAST-MODIFIED:20260219T131654Z
UID:59614-1768780800-1769212799@www.braincouncil.eu
SUMMARY:European Brain Council (EBC) in Davos during World Economic Forum 2026
DESCRIPTION:The Annual Meeting of the World Economic Forum will take place in Davos (Switzerland) from 19 to 23 January 2026. The event convenes global leaders to address key global and regional challenges. These include responding to geopolitical shocks\, stimulating growth to improve living standards\, and stewarding a just and inclusive energy transition. \nWill you be in Davos during the World Economic Forum 2026 and would like to meet with us? Please do not hesitate to reach out to us at advocacy@braincouncil.eu. \nThe European Brain Council during the World Economic Forum \nFuture of the Mind: Investing in Cognitive Health for Human & Economic Flourishing\n20 January 2026 / 08:55 – 09:30 CET\nLocation: Heimatmuseum\, Museumstrasse 1\, Davos\, Switzerland \nFrédéric Destrebecq\, EBC Executive Director\, will be moderating a panel discussion on ‘Future of the Mind: Investing in Cognitive Health for Human & Economic Flourishing’ on January 20th\, 2026. This session explores the emerging concept of brain capital and the critical role of cognitive health in driving both human and economic flourishing. Leaders from neuroscience\, investment\, and innovation discuss how supporting brain health and neuro-innovation can unlock productivity\, wellbeing\, and long-term societal impact. \nLearn More & RegisterThe $11+ Trillion Care Economy: Steps for Investors\, Boardrooms\, and AI\n21 January 2026 / 09:00 – 10:15 CET\nLocation: IHC House\, 65 Promenade\, Davos \nOn January 21st\, EBC will take part in a roundtable titled ‘The $11+ Trillion Care Economy: Steps for Investors\, Boardrooms\, and AI‘ at the IHC House. The session will explore brain health as a defining care example\, with new models emerging in MENA\, Asia and beyond that are increasingly intertwined with caregiving best practices in cancer\, cardiovascular disease and diabetes. It will examine Al and digital health’s impact across these disease areas\, where breakthroughs in early detection\, remote monitoring and personalised treatment are moving from pilot to scale. Participants will assess which innovations have achieved meaningful clinical and financial results\, and confront the hard barriers that remain: workforce shortages that technology alone cannot solve\, fragmented data systems that prevent care coordination\, and payment models that still reward volume over value. \nThe discussion will identify what must change in investment strategy\, regulatory policy and organizational design to unlock the $11 trillion care economy’s potential for patients\, providers and payers alike. \nPurpose Beyond Longevity: Health\, Demography and Political Responsibility\n22 January 2026 / 10:00 – 12:00 CET\nLocation: House of Collaboration\, Davos \nFrédéric Destrebecq\, EBC Executive Director\, will additionally speak during a session titled ‘Purpose Beyond Longevity: Health\, Demography and Political Responsibility‘. As science and technology extend human life\, we must ask: What do we live longer for? How can longevity policies foster purpose\, wellbeing\, and intergenerational solidarity\, while ensuring equitable access and global impact\, including for populations in the Global South? \nThe session is partnership-forward and solution-oriented\, framing longevity as a shared opportunity for governments\, multilateral institutions\, the private sector\, and civil society to advance health\, wellbeing\, and societal impact across generations\, fostering ethical leadership\, inclusive innovation\, and intergenerational solidarity while promoting equitable access globally. \nLearn More & RegisterThe Science of Mindfulness: Rethinking Leadership\, Wellbeing\, and the Human Potential\n22 January 2026 / 14:30 – 15:30 CET\nLocation: Davos Platz\, Graubünden \nFrédéric Destrebecq\, EBC Executive Director\, will speak during a session titled ‘The Science of Mindfulness: Rethinking Leadership\, Wellbeing\, and the Human Potential‘. The session serves as a cross-disciplinary conversation on the science of mindfulness bridging neuroscience research\, technology and contemplative wisdom. The discussion will explore how mindfulness shapes brain health\, resilience\, and human flourishing\, offering evidence-based insights and lived perspectives on its role in wellbeing\, leadership\, and longevity. \nLearn More & RegisterIntroducing the Global Brain Economy Initiative (GBEI)\nBrain Capital is fast emerging as essential infrastructure for the 21st-century economy. Strategic investment has the potential to unlock an estimated $6.2 trillion in annual global GDP\, yet efforts remain fragmented across healthcare\, education\, workforce development\, and public policy. GBEI will work with a group of global leaders to help bring efforts together and move a coordinated brain economy forward. EBC Executive Director Frédéric Destrebecq will join the Advisory Committee\, which plays an important role in shaping priorities and ensuring the initiative stays grounded in real-world impact. \nLearn More\nWill you be in Davos during the World Economic Forum 2026 and would like to meet with us? Please do not hesitate to reach out to us at advocacy@braincouncil.eu.
URL:https://www.braincouncil.eu/event/ebc-in-davos-during-wef-2026/
LOCATION:Davos\, Switzerland
CATEGORIES:Coordination Plan
ATTACH;FMTTYPE=image/png:https://www.braincouncil.eu/wp-content/uploads/2026/01/EBC-in-Davos-2026-scaled.png
END:VEVENT
END:VCALENDAR