BEGIN:VCALENDAR
VERSION:2.0
PRODID:-//European Brain Council (EBC) - ECPv6.15.19//NONSGML v1.0//EN
CALSCALE:GREGORIAN
METHOD:PUBLISH
X-WR-CALNAME:European Brain Council (EBC)
X-ORIGINAL-URL:https://www.braincouncil.eu
X-WR-CALDESC:Events for European Brain Council (EBC)
REFRESH-INTERVAL;VALUE=DURATION:PT1H
X-Robots-Tag:noindex
X-PUBLISHED-TTL:PT1H
BEGIN:VTIMEZONE
TZID:UTC
BEGIN:STANDARD
TZOFFSETFROM:+0000
TZOFFSETTO:+0000
TZNAME:UTC
DTSTART:20230101T000000
END:STANDARD
END:VTIMEZONE
BEGIN:VEVENT
DTSTART;VALUE=DATE:20241202
DTEND;VALUE=DATE:20241204
DTSTAMP:20260422T155802
CREATED:20240522T120116Z
LAST-MODIFIED:20240522T120116Z
UID:54164-1733097600-1733270399@www.braincouncil.eu
SUMMARY:Encephalitis Conference
DESCRIPTION:Encephalitis 2024 is dedicated exclusively to encephalitis and covers epidemiology\, pathogenesis\, diagnosis\, treatment and rehabilitation in both children and adults\, covering both infectious and autoimmune aetiologies. \nThere will be cutting-edge insights from global leaders in the field of brain inflammation covering hot topics\, critical research questions\, and approaches to the key clinical challenges informed by the latest research. \nYou can join us in-person at the Royal College of Physicians\, London\, or virtually\, via the online Conference Platform. \nFREE PLACES:  Please note there is a limited number of free places for medical and healthcare professionals from low-to-middle income countries (LMIC) to attend the Conference. \nSUBMIT AN ABSTRACT BEFORE 30 JUNEREGISTER HERELEARN MORE
URL:https://www.braincouncil.eu/event/encephalitis-conference/
ATTACH;FMTTYPE=image/jpeg:https://www.braincouncil.eu/wp-content/uploads/2024/05/1500x500.jpeg
END:VEVENT
BEGIN:VEVENT
DTSTART;TZID=UTC:20241202T095000
DTEND;TZID=UTC:20241202T165000
DTSTAMP:20260422T155802
CREATED:20240827T141105Z
LAST-MODIFIED:20240830T113659Z
UID:55203-1733133000-1733158200@www.braincouncil.eu
SUMMARY:EU4Health Conference 2024: Integration and Impact Initiative
DESCRIPTION:The EU4Health Conference: Integration and Impact Initiave will take place on 2 December 2024 at 09:50-16:50 in the Palace of Academies in Brussels\, Belgium. \nThe EU4Health Integration and Impact Initiative (EU4H3I) aims to address public health challenges such as healthcare disparities\, unequal access to therapies\, and lack of diversity in clinical trials. By advocating for interdisciplinary collaboration and adopting a holistic\, multi-sectoral approach through the One Health perspective\, the initiative supports the development of the European Health Union.  \nKey themes \n\n\nONE HEALTH: The One Health approach highlights the interdependence of human\, animal\, and environmental health\, and is crucial for tackling environmental and climate-related health threats.\nPAEDIATRIC CANCER: Childhood cancer is the leading disease-related cause of death in EU children over one. We hope for a world where children with cancer can be cured\, and their challenges are understood.\nBRAIN HEALTH: Brain health encompasses mental\, cognitive\, sensory\, emotional\, behavioral\, and motor functions. A healthy brain enables individuals to reach their full potential.\n\n\n\nThe consortium for the EU4Health Integration and Impact Initiative project includes the I3h Institute (I3h ULB)\, One Sustainable Health for All Foundation (OSH Foundation)\, Childhood Cancer International Europe (CCI Europe)\, and the European Brain Council (EBC). \n \nCo-funded by the European Union \nFind out more about the event & registerLearn more about the project
URL:https://www.braincouncil.eu/event/eu4health-conference-2024-integration-and-impact-initiative/
LOCATION:Brussels\, Belgium
ATTACH;FMTTYPE=image/png:https://www.braincouncil.eu/wp-content/uploads/2024/08/EU4Health-Conference-Banner.png
END:VEVENT
BEGIN:VEVENT
DTSTART;VALUE=DATE:20241207
DTEND;VALUE=DATE:20241208
DTSTAMP:20260422T155802
CREATED:20240723T134834Z
LAST-MODIFIED:20240723T135249Z
UID:54921-1733529600-1733615999@www.braincouncil.eu
SUMMARY:Plexus Skills 2024: Clinical Skills for Life
DESCRIPTION:This December 7th (Zagreb Croatia)\, Plexus is gathering elite physicians from top US hospitals including Cleveland Clinic to teach the most cutting-edge\, actionable clinical skills and knowledge through immersive workshops in cardiology\, emergency medicine\, endocrinology\, and oncology. These limited-capacity\, hands-on sessions are a unique opportunity for physicians\, residents\, and medical students to elevate their medical expertise. \nThe abstract submission for the Plexus Skills conference is open. Posters offer an excellent opportunity to share your research and case studies with colleagues and peers. Both posters and abstracts must be submitted to the Plexus Evaluation Committee (pr@medx.hr) by October 1st. All submissions will be reviewed\, and decisions will be communicated to authors. For any questions\, please contact pr@medx.hr. \nThe conference day will be capped off with a gorgeous Gala dinner where a Nobel laureate will share their incredible career path\, as well as an opportunity for networking with all the speakers and participants. See you in December 2024 in Zagreb\, Croatia in the historic Hotel Esplanade and enjoy one of Europe’s most amazing Christmas markets while learning cutting-edge knowledge! \nLearn moreDownload the flyerPlexus_2024_Official_Flyer
URL:https://www.braincouncil.eu/event/plexus-skills-2024-clinical-skills-for-life/
LOCATION:Zagreb Croatia\, Zagreb\, Croatia (Local Name: Hrvatska)
ATTACH;FMTTYPE=image/jpeg:https://www.braincouncil.eu/wp-content/uploads/2024/07/plexus_conference_cover.jpeg
END:VEVENT
END:VCALENDAR