BEGIN:VCALENDAR
VERSION:2.0
PRODID:-//European Brain Council (EBC) - ECPv6.15.19//NONSGML v1.0//EN
CALSCALE:GREGORIAN
METHOD:PUBLISH
X-WR-CALNAME:European Brain Council (EBC)
X-ORIGINAL-URL:https://www.braincouncil.eu
X-WR-CALDESC:Events for European Brain Council (EBC)
REFRESH-INTERVAL;VALUE=DURATION:PT1H
X-Robots-Tag:noindex
X-PUBLISHED-TTL:PT1H
BEGIN:VTIMEZONE
TZID:UTC
BEGIN:STANDARD
TZOFFSETFROM:+0000
TZOFFSETTO:+0000
TZNAME:UTC
DTSTART:20230101T000000
END:STANDARD
END:VTIMEZONE
BEGIN:VEVENT
DTSTART;VALUE=DATE:20241001
DTEND;VALUE=DATE:20241003
DTSTAMP:20260422T171237
CREATED:20240315T083405Z
LAST-MODIFIED:20240315T095516Z
UID:53526-1727740800-1727913599@www.braincouncil.eu
SUMMARY:World Sleep Forum: 7th Think Tank: Sleep health and the burden of sleep disorders
DESCRIPTION:Join the World Sleep Forum: 7th Think Tank\, where experts will delve into the critical issues surrounding sleep health and the burden of sleep disorders. Organized by the European Sleep Foundation\, this thought-provoking event will take place on October 1st and 2nd\, 2024\, in the city of Lugano\, Switzerland. \nDistinguished speakers\, including Professor Claudio Bassetti\, Vice-President of the European Brain Council\, will provide insights into the latest research\, advancements\, and challenges in the field of sleep medicine. Participants can expect engaging discussions\, interactive sessions\, and networking opportunities with leading professionals and researchers in sleep health. \nMORE INFORMATIONPRELIMINARY PROGRAM
URL:https://www.braincouncil.eu/event/world-sleep-forum-7th-think-tank-sleep-health-and-the-burden-of-sleep-disorders/
LOCATION:Lugano\, Switzerland
ATTACH;FMTTYPE=image/png:https://www.braincouncil.eu/wp-content/uploads/2024/03/Untitled-design-5.png
END:VEVENT
BEGIN:VEVENT
DTSTART;VALUE=DATE:20241001
DTEND;VALUE=DATE:20241004
DTSTAMP:20260422T171237
CREATED:20240429T083847Z
LAST-MODIFIED:20240802T113605Z
UID:54009-1727740800-1727999999@www.braincouncil.eu
SUMMARY:Lausanne XI: Where Leaders Converge to End Alzheimer's Disease
DESCRIPTION:The 2024 Lausanne Workshop is the eleventh in a series of Lausanne-based annual Alzheimer’s convenings with a goal to stop Alzheimer’s. Over the past ten years\, Lausanne has become a highly curated platform for global Alzheimer’s stakeholders to identify challenges\, set solution paths\, measure progress and hold each other accountable to act. \nThe Lausanne Workshop is organized under the auspices of the Organisation for Economic Co-Operation and Development (OECD) and supported by The Global CEO Initiative on Alzheimer’s Disease (CEOi)\, Alzheimer’s Disease International (ADI) and World Economic Forum (WEF). It launched in 2014 as a response to the challenge articulated at the UK G8 Dementia Summit to stop Alzheimer’s by 2025. This goal was reinforced at the First WHO Ministerial Conference on Global Action Against Dementia in 2015. \nEBC will be present at the event. Stephanie Kramer\, Deputy Executive Director will take part in a panel discussion under the title “Preventative Power: Promoting Brain Health to Address the Alzheimer’s Crisis”.
URL:https://www.braincouncil.eu/event/lausanne-xi-where-leaders-converge-to-end-alzheimers-disease/
LOCATION:Lausanne\, Switzerland
END:VEVENT
BEGIN:VEVENT
DTSTART;TZID=UTC:20241008T130000
DTEND;TZID=UTC:20241008T170000
DTSTAMP:20260422T171237
CREATED:20240429T083055Z
LAST-MODIFIED:20241008T061221Z
UID:54007-1728392400-1728406800@www.braincouncil.eu
SUMMARY:Advancing Global Collaboration for Dementia and Healthy Aging
DESCRIPTION:Side Event at the 2024 G7 Health Ministerial Meeting: Advancing Global Collaboration for Dementia and Healthy Aging EBC is pleased to collaborate with the Davos Alzheimer’s Collaborative (DAC)\, who will be hosting event on the sidelines of the 2024 G7 Health Ministerial Meeting: Advancing Global Collaboration for Dementia and Healthy Aging. The event will take place on 8 October 2024 from 13:00-17:00 CET in Ancona\, Italy. \nAs the world’s population ages\, dementias including Alzheimer’s disease are among the most pressing global health challenges. The profound impacts of dementias are looming threats that will increasingly strain health systems\, societies\, and individuals. DAC recognizes and applauds the previous efforts and commitments made by governments of the G7 to address dementias. However\, the stark reality remains: the global community is not yet equipped to actualize and achieve these commitments. \nOn the sidelines of the G7 Health Ministerial meeting\, the premier stage for international collaboration on critical health issues\, the event aims to emphasize the continued need for global coordination and commitment to healthy aging\, brain health\, and addressing the global burden of dementias including Alzheimer’s disease. It will showcase the progress that is being made on all fronts in the fight to end Alzheimer’s\, including policy advances\, scientific innovations\, and improved care pathways. The event will convene high-level stakeholders – including government\, policy makers\, international organizations\, industry\, and civil society – around the objectives: \n\nReiterating the importance of a person-centric approach to developing new treatments and strengthening health systems in support of people living with dementias including Alzheimer’s Disease.\nHighlighting the progress countries have made since the 2023 G7 communiqué in Japan supported “policies and resources to care for people living with dementia\,” including on early detection of Alzheimer’s disease and on the development of new therapeutics.\nBuilding consensus on the urgent need for sustained global collaboration toward healthy aging and brain health\, including in addressing Alzheimer’s and dementia\, supporting the realization of national plans\, coordination\, and knowledge sharing at the global level.\n\nEBC looks forward to participating in this critical discussion: Frédéric Destrebecq\, EBC’s Executive Director\, will be speaking during the ‘Defining the Opportunities for Global Action’ panel alongside Chris Lynch (Alzheimer’s Disease International)\, Charlotte Refsum (Tony Blair Institute for Global Change)\, Wade Shen (Advanced Research Projects Agency for Health). The discussion will be moderated by George Vradenburg (Davos Alzheimer’s Collaborative) and will take place at 16:10-16:50 CEST. Panelists will be sharing insights on how we can enable countries to build sustained global collaboration toward healthy ageing and brain health. \nThe Davos Alzheimer’s Collaborative \nThe Davos Alzheimer’s Collaborative (DAC) is a pioneering worldwide initiative to cure Alzheimer’s disease and improve brain health\, seeking to mirror the success of global efforts against infectious diseases such as HIV/AIDS\, Covid\, and Malaria. DAC is extending global research beyond its current focus on traditional Western European ethnic populations into the highly diversified populations of the Global South\, where the vast majority of those with Alzheimer’s live. By introducing lower-cost screening and diagnostic tools as well as new treatment and prevention modalities in primary care and community health settings\, DAC is driving implementation of health system solutions that are appropriate for worldwide application. DAC also promotes the vital importance of brain health throughout the lifespan by addressing cardiometabolic and lifestyle factors\, especially in early and mid-life. Absent effective action at scale around the world\, by 2050\, more than 150 million families and half a billion people will be personally impacted by dementia\, creating a social\, financial\, economic\, and global security disaster of historic proportions. DAC was launched in Davos in 2021 by the World Economic Forum and the Global CEO Initiative on Alzheimer’s Disease. \nREGISTRATIONDiscover the programmePlease note that requesting registration does not guarantee admission to the event. You will be notified by a member of the DAC team if your request is approved. 
URL:https://www.braincouncil.eu/event/advancing-global-collaboration-for-dementia-and-healthy-aging/
LOCATION:Ancona\, Italy
END:VEVENT
BEGIN:VEVENT
DTSTART;VALUE=DATE:20241013
DTEND;VALUE=DATE:20241018
DTSTAMP:20260422T171237
CREATED:20240103T134032Z
LAST-MODIFIED:20241011T123748Z
UID:51269-1728777600-1729209599@www.braincouncil.eu
SUMMARY:EANS Congress 2024
DESCRIPTION:The Annual Congress of the European Association of Neurosurgical Societies (EANS) will take place on 13-17 October 2024\, at the National Palace of Culture in Sofia (Bulgaria).   \nThe congress theme will be “Innovation\, Education\, Leadership”\, reflecting the current need to thoroughly discuss the future of neurosurgery in connection with technological advances that can improve neurosurgical education\, training and treatment\, aiming to create the next leaders of neurosurgery in Europe and all over the globe.   \nThe programme will include several sessions dedicated to technological advances and innovative prospects and projects\, always maintaining its high quality in presenting new original neurosurgical research.  \nEBC will be present at the Congress with a booth in the exhibition area. Make sure to pass by booth #38 where you can learn more about our ongoing projects\, latest activities\, and upcoming events! On Sunday 13th of October from 09:00-12:00\, EBC will also participate in a session titled ‘Building Brain Health in Europe‘. \nFind out more
URL:https://www.braincouncil.eu/event/congress-of-the-european-association-of-neurosurgical-societies/
ATTACH;FMTTYPE=image/jpeg:https://www.braincouncil.eu/wp-content/uploads/2024/01/EANS_2024_SOFIA_WEB_BANNER_2400x600_Plain.jpg
END:VEVENT
BEGIN:VEVENT
DTSTART;TZID=UTC:20241013T090000
DTEND;TZID=UTC:20241013T120000
DTSTAMP:20260422T171237
CREATED:20240708T131037Z
LAST-MODIFIED:20241011T113721Z
UID:54839-1728810000-1728820800@www.braincouncil.eu
SUMMARY:Building Brain Health in Europe | EANS Congress 2024
DESCRIPTION:EBC is please to take a part in “Building Brain Health in Europe” session at EANS Congress 2024. The session will take place on 13th of October 2024 from 9:00 till 12:00 in Hall 6 of the Venue in Sofia. \nAbout the session\nThis session\, organized by EANS\, will cover topics such as advocacy\, brain health imaging\, the brain tumours\, neurosurgery in psychiatry and traumatic brain injuries.   \nEBC will present the advocacy work in the brain space undertaken at the European level and explore not only the importance of the work being done but the potentials for strengthened collaboration and the needs going forward\, for the benefit of all within the brain space\, particularly with a spotlight on neurosurgery\, neurology and neurological conditions (including the clinicians that treat them and the patients that live with them).  \nSession will feature a series of presentations by prominent experts in the field of brain health. Prof Torstein R. Meling will chair the session. Speakers include Prof Thomas Berger\, Prof Suzanne Dickson\, Tarek Yousry\, Prof Johnny Duerinck\, Dr Niklas Marklund\, Majda Thurnher\, Dr Ricardo Chavarriaga\, and Dr Eric Suero Molina. Topics will cover various aspects of brain health\, including neuroradiology\, the impact of brain tumors\, traumatic brain injury\, and stroke\, as well as the role of neurosurgery in modern psychiatry. Prof Suzanne Dickson will put forward the role of EBC in the advocacy of Brain Health and Dr Ricardo Chavarriaga will explore the ethics of neuroprosthetics. \nEBC SpeakersSuzanne DicksonPresident\, European Brain Council Professor Suzanne L Dickson is a neurobiologist and Professor of Neuroendocrinology at the University of Gothenburg. She graduated with a Ph.D. in Neuroendocrinology from the University of Cambridge in 1993\, where she later became Senior Lecturer in Physiology. She is a leading figure in neuroendocrinology and works within many European Union and international organisations and societies to promote research\, facilitate grant funding and training of Early Career Scientists. Her research into the neurobiology of appetite aims to unravel neurobiological pathways that respond to orexigenic signals\, such as the hormone\, ghrelin\, and that drive feeding behaviours\, not only food intake but also food choice\, food anticipation\, food reward and food motivation. This work involves mostly preclinical studies and includes behavioural tasks\, viral vector mapping\, chemogenetics and RNAscope. She is Secretary and Executive Board member of the European College for Neuropsychopharmacology\, and also chairs ECNP’s Workshop for Early Career Scientists in Europe. She also is founder and co-chair of ECNP’s nutrition network and EBRA’s BRAINFOOD cluster. \nRicardo ChavarriagaGroup Lead\, Responsible AI Innovation Neuroscientist and public speaker in neurotechnologies\, artificial intelligence\, and responsible innovation. Dr Chavarriaga leads the Responsible AI Innovation group at at the Center for Artificial Intelligence of the Zürich University of Applied Sciences (ZHAW) and is the head of the Swiss office of the Confederation of Laboratories for AI Research in Europe (CLAIRE). His work is focused on leveraging neuroscience\, AI\, and ethics for advancing responsible innovation and governance of human-centered technology. \nLEARN MORE ABOUT EBC AT EANS CONGRESS
URL:https://www.braincouncil.eu/event/building-brain-health-in-europe-eans-congress-2024/
ATTACH;FMTTYPE=image/jpeg:https://www.braincouncil.eu/wp-content/uploads/2024/01/EANS_2024_SOFIA_WEB_BANNER_2400x600_Plain.jpg
END:VEVENT
END:VCALENDAR