BEGIN:VCALENDAR
VERSION:2.0
PRODID:-//European Brain Council (EBC) - ECPv6.15.19//NONSGML v1.0//EN
CALSCALE:GREGORIAN
METHOD:PUBLISH
X-ORIGINAL-URL:https://www.braincouncil.eu
X-WR-CALDESC:Events for European Brain Council (EBC)
REFRESH-INTERVAL;VALUE=DURATION:PT1H
X-Robots-Tag:noindex
X-PUBLISHED-TTL:PT1H
BEGIN:VTIMEZONE
TZID:UTC
BEGIN:STANDARD
TZOFFSETFROM:+0000
TZOFFSETTO:+0000
TZNAME:UTC
DTSTART:20230101T000000
END:STANDARD
END:VTIMEZONE
BEGIN:VEVENT
DTSTART;VALUE=DATE:20240825
DTEND;VALUE=DATE:20240902
DTSTAMP:20260422T184551
CREATED:20240126T200053Z
LAST-MODIFIED:20240126T200718Z
UID:51933-1724544000-1725235199@www.braincouncil.eu
SUMMARY:Walking the Talk for Dementia 2024
DESCRIPTION:Walking the Talk for Dementia is an immersive experience that challenges conventional power dynamics and hierarchies in healthcare by using shared vulnerability as a catalyst for transformation. The second edition is set to take place from 25 August to 1 September 2024 in Santiago de Compostela (Spain). \nIt consists of a 40 km\, four-day walk along the Camino de Santiago de Compostela (Spain) for deepen connections and diversify perspectives\, followed by a two-day symposium to consolidate reflections and collaborations. \nParticipants include individuals working\, researching\, and living with dementia\, both inspired and affected by this diagnosis. Together we explore and highlight a variety of key issues related to dementia across social\, geographical\, cultural\, and professional backgrounds. \nVisit the websiteFind out moreFor privacy reasons YouTube needs your permission to be loaded. For more details\, please see our Privacy Policy.I Accept
URL:https://www.braincouncil.eu/event/walking-the-talk-for-dementia-2024/
LOCATION:Santiago de Compostela\, Spain
ATTACH;FMTTYPE=image/png:https://www.braincouncil.eu/wp-content/uploads/2024/01/WTD24_GOOGLEFORM_03.png
END:VEVENT
BEGIN:VEVENT
DTSTART;TZID=UTC:20240905T150000
DTEND;TZID=UTC:20240905T170000
DTSTAMP:20260422T184551
CREATED:20240715T105955Z
LAST-MODIFIED:20240913T085100Z
UID:54877-1725548400-1725555600@www.braincouncil.eu
SUMMARY:Thematic Network Webinar: Towards and EU Coordination Plan for Brain Health
DESCRIPTION:The European Brain Council has been selected to lead the DG Sante Thematic Network\, titled “Towards an EU Coordination Plan for the Brain\,” under the EU Health Policy Platform. The Thematic Network’s primary aim is to prepare a position paper\, referred to as the Joint Statement. This document will present the collective vision and strategic recommendations for enhancing brain health policies and practices across Europe. \nTo facilitate the development of the Joint Statement\, an open live webinar took place on 5th of September. This webinar served as a platform for discussing ideas\, sharing insights\, and fostering collaboration among participants before the final drafting of the Joint Statement. The second draft of the position paper will be shared in October and discussed in a second webinar. The finalized Joint Statement will then be presented by the European Brain Council at the EU Health Policy Platform Annual Meeting. \nParticipation in the webinar was open to everyone. This inclusive approach ensures that the diverse perspectives and expertise of the brain health community are represented in the Joint Statement\, contributing to a coordinated and effective EU strategy for brain health. \nLEARN MORE ABOUT the THEMATIC NETWORKWatch the ReplayFor privacy reasons YouTube needs your permission to be loaded. For more details\, please see our Privacy Policy.I AcceptDOWNLOAD THE PROGRAMME
URL:https://www.braincouncil.eu/event/thematic-network-webinar-towards-and-eu-coordination-plan-for-brain-health/
LOCATION:Online
ATTACH;FMTTYPE=image/jpeg:https://www.braincouncil.eu/wp-content/uploads/2024/07/BRAIN-AWARENESS-WEEK-1400-x-400-px-1.jpg
END:VEVENT
BEGIN:VEVENT
DTSTART;TZID=UTC:20240918T090000
DTEND;TZID=UTC:20240918T181500
DTSTAMP:20260422T184551
CREATED:20240404T131050Z
LAST-MODIFIED:20240807T150527Z
UID:53802-1726650000-1726683300@www.braincouncil.eu
SUMMARY:The Brain Economy for One Health: 21st Century Response to 21st Century Challenges - Science Summit at the 79th United Nations General Assembly
DESCRIPTION:As part of the UN Science Summit at the 79th United Nations General Assembly and Summit for the Future\, Rice University’s Baker Institute Center for Health and Bioscience\, the California Mental Health Services Oversight Accountability Commission\, the Brain Capital Alliance\, the Euro-Mediterranean Economists’ Association\, HKS and NeuroCentury are convening a plenary conference on 18 September 2024\, focused on the new concept of the Brain Economy which posits a transformative societal approach to build brain capital\, an asset that optimizes brain health and brain skills\, in the face of technological change. The event’s particular focus will be on how the brain economy can support the goals of the One Health framework\, aiming to balance and optimize the health of people\, animals\, and ecosystems. \nLearn MoreAgendaRegistration\nThis event is the first in a series of Brain Days at the Science Summit of the 79th United Nations General Assembly in New York City\, immediately followed by the two-day European Brain Council-led event\, NEUROSCIENCE & SOCIETY: A LIFE COURSE APPROACH TO BRAIN HEALTH\, prominently placing brain health and the brain economy high on the UNGA79 side events agenda.
URL:https://www.braincouncil.eu/event/brain-economy-for-one-health-science-summit-at-the-79th-united-nations-general-assembly/
LOCATION:New York\, United States
END:VEVENT
BEGIN:VEVENT
DTSTART;VALUE=DATE:20240919
DTEND;VALUE=DATE:20240921
DTSTAMP:20260422T184551
CREATED:20240305T072012Z
LAST-MODIFIED:20250214T155840Z
UID:53230-1726704000-1726876799@www.braincouncil.eu
SUMMARY:Neuroscience and Society: A Life Course Approach to Brain Health - Science Summit of 79th United Nations General Assembly
DESCRIPTION:As part of the Global Brain Coalition\, the European Brain Council (EBC)\, Brain Capital Alliance\, Davos Alzheimer’s Collaborative\, Meadows Mental Health Policy Institute and UNICEF hosted a two-day\, high-level side event at the 79th United Nations General Assembly\, in collaboration with partner organizations\, in the framework of the Science Summit at the 79th United Nations General Assembly (UNGA79) in New York City on 19-20 September 2024 at Cure. \nIn line with the Science Summit’s core focus of examining policy\, regulatory and financial environments needed to implement and sustain the science mechanisms required to support global scientific collaborations and demonstrate the role and contribution of science in attaining the United Nations Sustainable Development Goals (SDGs)\, the two-day event highlighted existing partnerships and the immense potential and benefits of extending global collaboration in the brain space\, for science\, policymaking\, and society as a whole. \nBrain disorders – encompassing neurological diseases and disorders and mental illnesses – are widespread\, disabling\, and difficult to treat. In fact\, it is estimated that up to three billion people worldwide live with a neurological condition and 970 million people around the world were living with a mental health disorder as of 2019. These conditions represent a high individual\, social and economic burden and contribute immensely to the global burden of disease – in fact\, as of 2024\, neurological conditions alone are now the leading cause of ill health and disability worldwide. \nTo work towards explicit and tangible next steps in solidifying global efforts in addressing the burden and overall brain health\, this two-day event showcased the importance and urgency of prioritizing brain health across all policies at the global level and build on the Call to Action launched at UNGA78. Addressing the immense global burden of brain disorders means investing in research and innovation in the brain health space to power our understanding of the brain\, stay ahead in the quest to find treatment and cures and work to prevent any further increase in the prevalence of these conditions. Furthermore\, at the socio-economic level\, policies and investments to boost brain power can increase productivity\, stimulate greater creativity and economic dynamism\, afford social cohesion\, and create a more resilient\, adaptable\, and sustainability-engaged populace. \nKey stakeholders from across the wider brain community – scientific\, clinical\, economic\, industry – and other relevant actors met to present on their work and co-create towards further action to place brain health at the top of global policy agendas in the post-Sustainable Development Goals (SDGs) era. This action was incredibly timely\, particularly in 2024\, where 64 countries worldwide are hosting major elections and we are witnessing times of major political\, economic\, and overall societal shifts and instability. Furthermore\, at the global level\, the United Nations enters a period of preparation for the future\, with the Summit of the Future kicking off during UNGA79 to plan for the post-2030 agenda and a High-Level Conference on NCDs planned in 2025. \nThe days focused on three key areas\, through presentations\, guided panel discussions and interactive discussion: \n\nThe challenge\, impact and need for action;\nBrain health and society – the brain in the life course;\nBoosting global partnerships\, capacity building and investing in neuroscience.\n\nTopics touched on throughout the two days showcased just how relevant the brain and brain health is to society\, not only in terms of burden of disease\, healthcare and research\, but also touching key issues such as the built environment\, school-centred care\, neuroscience in policymaking and judiciary decision making\, neurotechnology and so much more. Watch the full event recording on YouTube the follow key moments\, panel discussions and presentations from the high-level conference\, including a Keynote Address by the Governor of New York\, Kathy Hochul. \nRead our Press Release announcing the formation of the Global Brain Coalition. \n \nFinal AgendaScience SummitDay 1 2024 Full Day RecordingFor privacy reasons YouTube needs your permission to be loaded. For more details\, please see our Privacy Policy.I AcceptDay 2 2024 Full Day RecordingFor privacy reasons YouTube needs your permission to be loaded. For more details\, please see our Privacy Policy.I Accept2023 AftermovieFor privacy reasons YouTube needs your permission to be loaded. For more details\, please see our Privacy Policy.I Accept\nThis event was part of a series of Brain Days at the Science Summit of the 79th United Nations General Assembly. An additional event\, The Brain Economy for One Health: 21st Century Response to 21st Century Challenges\, took place on 18 September 2024\, prominently placing brain health and the brain economy high on the UNGA79 side events agenda.
URL:https://www.braincouncil.eu/event/unga79/
LOCATION:Cure.\, 345 Park Ave S\, New York\, NY\, 10010\, United States
CATEGORIES:Global Partnerships
ATTACH;FMTTYPE=image/png:https://www.braincouncil.eu/wp-content/uploads/2024/03/Event-Banners-6.png
ORGANIZER;CN="European Brain Council":MAILTO:advocacy@braincouncil.eu
END:VEVENT
BEGIN:VEVENT
DTSTART;VALUE=DATE:20240921
DTEND;VALUE=DATE:20240925
DTSTAMP:20260422T184551
CREATED:20240103T135237Z
LAST-MODIFIED:20241002T144050Z
UID:51277-1726876800-1727222399@www.braincouncil.eu
SUMMARY:37th ECNP Congress
DESCRIPTION:The European Brain Council (EBC) was pleased to participate in the 37th Congress of the European College of Neuropsychopharmacology (ECNP) held in Milan from 25–28 September 2024. The ECNP Congress is a leading platform for bringing together psychiatrists\, neuroscientists\, neurologists\, and psychologists from around the world to discuss the latest advancements in brain disorder research and treatment. \nTowards the BrainHealth PartnershipOn September 25th\, EBC organized an engaging session titled “Towards the BrainHealth Partnership”. The session opened with remarks from EBC President Prof. Suzanne Dickson\, followed by a presentation from Kristien Aarts\, EBC’s Chief Research and Innovation Officer\, on the “state of play” of brain research collaborative initiatives in the European Union. She emphasized the urgent need for international collaboration and multi-level engagement in both global and national contexts to address the pressing challenges in brain health. \nThe following panel discussion featured: \n\nProf. Martien Kas (President of the European College of Neuropsychopharmacolog)\nMonica Di Luca (EBRA coordinator\, former EBC President)\nSabine Hölter-Koch (PREMOS cluster\, EBRA)\nRoger Adan (BRAINFOOD cluster\, EBRA)\n\nThe panelists showcased concrete examples of how collaboration at the European level\, particularly through the EBRA clusters and ECNP networks\, has led to tangible impacts in the brain health research field. Each speaker highlighted the critical importance of bringing together diverse stakeholders from the research community\, industry\, and civil society to drive progress in brain research and innovation. \nThe session’s message was clear: collaboration is key to overcoming the substantial challenges in brain health research. Through joint efforts and coordinated initiatives\, significant progress can be achieved. The discussion also touched upon the work being done by the Coordination and Support Action (CSA) BrainHealth in paving the way towards the future European Partnership on BrainHealth. \nThe session was well-attended\, and the audience was highly engaged\, actively participating in the discussion. \nEBC at the CongressBeyond the session\, EBC had a strong presence throughout the ECNP Congress. On September 24\, EBC had the pleasure to present a poster on the “Rethinking Schizophrenia: Beyond the Voices”\, which outlined key policy recommendations to improve the lives of individuals living with schizophrenia in Europe. The ePoster can be accessed by clicking on the following link. Rethinking Schizophrenia is a research-driven project offering tangible policy changes to improve the lives of people living with schizophrenia across Europe. It challenges the status quo and refreshes the European policy debate on people living with schizophrenia and encourages multi-stakeholder-driven policy. The project falls under #BeyondTheVoices campaign.
URL:https://www.braincouncil.eu/event/37th-ecnp-congress/
LOCATION:Allianz MiCo\, Piazzale Carlo Magno\, 1/Gate 16\, Milano\, 20149\, Italy
ATTACH;FMTTYPE=image/jpeg:https://www.braincouncil.eu/wp-content/uploads/2024/01/banner2560x512px.jpg
END:VEVENT
BEGIN:VEVENT
DTSTART;TZID=UTC:20240924T111500
DTEND;TZID=UTC:20240924T120000
DTSTAMP:20260422T184551
CREATED:20240207T102425Z
LAST-MODIFIED:20240613T140058Z
UID:52309-1727176500-1727179200@www.braincouncil.eu
SUMMARY:Towards the BrainHealth Partnership | 37th ECNP Congress
DESCRIPTION:EBC is pleased to hold a Panel Discussion ‘Toward the BrainHealth Partnership‘ at the upcoming ECNP Congress. \nBrain disorders – neurological and mental alike – are widespread\, highly disabling and often difficult to treat. Approximately 60% of the European population lives with a neurological condition and one in six citizens in Europe is affected by mental ill-health. These numbers are alarming without considering that they date back to before the COVID-19 pandemic\, which we now know spurred higher rates of mental health conditions as well as COVID-triggered neurological complications\, continuously on the rise in times of societal instability. These conditions represent a high individual\, social and economic burden and contribute to the global disease burden and disability. At the end of 2023\, the EU-funded Coordination & Support Action (CSA) BrainHealth launched\, preparing for a European Partnership on Brain Health\, planned for the European Commission’s 2nd Strategic Programme of Horizon Europe in 2025-2026. With the aim to further coordinate and structure the area of brain health research in Europe\, the CSA BrainHealth is the result of a common vision and a goal to promote brain health regionally and globally\, as well as promoting the brain health of citizens. This vision has been supported by the main players in the field for many years – JPND\, NEURON\, EBC and EBRAINS \nChairSuzanne DicksonSuzanne L. Dickson is Professor of Physiology/Neuroendocrinology at the Sahlgrenska Academy at the University of Gothenburg\, Sweden (2004-). She graduated first from the University of Edinburgh with a BSc (Honours) in Pharmacology (1993) and then from the University of Cambridge (UK) with a PhD in Neuroendocrinology (1993). Recently the University of Edinburgh appointed her Honorary Professor in Biomedical Sciences in acknowledgement of her work on the neuroendocrinology of appetite. Prior to her current appointment\, she held a tenured position as Senior Lecturer in Physiology at the University of Cambridge\, UK (1996-2004). Her current research focus is the role of the endocrine gut-brain axis in appetite control. This work builds upon almost 20 years research exploring the central actions of ghrelin and\, before its discovery\, growth hormone secretagogues (now known to be ghrelin mimetics). Her work was first to show that these ghrelin mimetics act in the brain\, that they target an orexigenic system (the neuropeptide Y cells in the hypothalamus)\, that they are important for food intake and fat accumulation and\, more recently\, target brain reward pathways. Recent work includes the impact of gut hormones\, especially ghrelin\, on food choice\, food reward\, food motivation\, food anticipation\, habitual and impulsive behaviours as well as behaviours linked to mood. Suzanne has coordinated three successful European Union large integrated projects in the field of obesity\, diabetes and appetite. Part of this work involved coordination of a consensus on “Food Addiction”. These projects involve wide international networks and collaborations that cross many scientific and geographical borders. \nSpeakerKristien AartsKristien has been part of the European Brain Council since 2019 where she currently leads the research team. In this strategic role\, Kristien plays a pivotal role in ensuring that the organization’s work is grounded in scientific evidence\, research\, and innovation. Her responsibilities include monitoring research funding\, project applications\, overseeing EU-funded projects\, and developing a rare brain disease ecosystem. She also manages the Brain Innovation Days program and is actively creating an evidence-based brain health toolbox for the team. Kristien has a PhD in Psychology from Ghent University (Belgium). With diverse experience at Lyon Neuroscience Research Center\, the European Health Management Association and the University of Utrecht\, Kristien brings expertise in brain research\, neuropsychology\, emotion\, cognition\, multisensory processing\, mindfulness\, clinical research management\, and EU-project management. \nExpertsSabine Hölter-KochSabine Hölter-Koch is a behavioural neuroscientist heading the Behavioural Unit at the German Mouse Clinic at Helmholtz Munich\, Germany and lecturer at Technical University Munich. Her research focuses on the translational relevance of behavioural and brain phenotypes of genetic mouse models for neurodevelopmental\, neurodegenerative and rare diseases. Her group has worked on phenotypes that are relevant across disorders\, phenotype progression over the lifetime including influences of environmental factors\, and on somatic comorbidities of brain disorders. She has contributed to several EU-funded projects since 2003 (EUMORPHIA\, EUMODIC\, INFRAFRONTIER2020\, LDLensRad\, CAQIII) and coordinated PREMOS\, the cluster on Predictive Model Systems of the European Brain Research Area. Currently she serves as co-lead of the Behaviour & Sensory Workgroup of the International Mouse Phenotyping Consortium (IMPC)\, as Science Communication Coordinator of COST Action CA20135 “Improving biomedical research by automated behaviour monitoring in the animal home-cage”\, as member of the EBRAINS Science & Technology Committee\, and member of the European Brain Council Animal Research Task Force. For ECNP she serves as Chair of the Preclinical Data Forum Network and member of the Workshop Committee 2023-2026. \nRoger AdanRoger Adan is Professor of Molecular Pharmacology at the University Medical Center Utrecht at the Utrecht University in the Netherlands. His research concerns unraveling the neural circuits that underlie behaviors relevant to psychiatry with a focus on eating disorders. \nMartien KasMartien Kas is Professor of Behavioral Neuroscience at the Groningen Institute for Evolutionary Life Sciences at the University of Groningen\, the Netherlands. The research of his group focuses on determinants of behavior\, especially of behavioral strategies and of biological processes that are essential across species and that are affected in various neuropsychiatric disorders (e.g.\, social interaction and sensory information processing). By means of cross-species genetic analysis of neurobehavioral traits (of mice and men)\, they aim to identify genotype-phenotype relationships relevant to the development and treatment of autism spectrum disorders\, Alzheimer’s Disease\, eating disorders\, and schizophrenia. These studies will lead to the understanding of conserved gene function in regulating essential behavioral strategies and will ultimately improve therapeutic and preventive strategies to contribute to healthy aging. In addition\, he is Executive Committee Board member and President of the European College of NeuroPsychopharmacology (ECNP)\, Editorial board member of Mammalian Genome\, and project coordinator of the PRISM1 and PRISM2 projects\, two large EU Innovative Medicine Initiative (IMI) projects that aim to unpick the biological reasons underlying social dysfunction\, which is a common early symptom of Schizophrenia\, Alzheimer’s disease and Major Depressive Disorder. \nMonica Di LucaMonica DiLuca has been professor of Pharmacology at the University of Milano since 1999. She is at present the Director of Department of Excellence of Pharmacological and Biomolecular Sciences of University of Milano. She is a member of the EMBO and has received major international distinctions and awards\, including a Docteur Honoris Causa University of Bordeaux (2019) and a Laurea Honoris Causa Faculty of Medicine and Pharmacy\, Univ. of Mons (2017). Her primary research interest is related to synaptic plasticity both in physiological and pathological conditions\, with the primary aim to apply her basic findings to the cure of neurodegenerative diseases as Alzheimer Disease. Her discoveries enriched our understanding of glutamatergic synapse in physiology and pathology\, increasing our knowledge on plasticity and memory and leading to new tools for neuroprotection. A prominent trait of Monica DiLuca’s career is her deep and exigent involvement in sharing ideas over borders and establishing collaborative multi stakeholder networks merging scientists\, clinicians and patients’ organizations. She has played a pivotal role in international organizations for neuroscience research in connection with societal challenges\, including serving as President of Federation of European Neuroscience Societies (FENS) and European Brain Council (EBC). She is currently the President of Italian Society for Neuroscience. \nLEARN MORE ABOUT ENCP CONGRESS 2024
URL:https://www.braincouncil.eu/event/the-importance-of-coordination-and-collaboration-in-brain-research-real-life-experiences-37th-ecnp-congress/
LOCATION:Allianz MiCo\, Piazzale Carlo Magno\, 1/Gate 16\, Milano\, 20149\, Italy
ATTACH;FMTTYPE=image/jpeg:https://www.braincouncil.eu/wp-content/uploads/2024/01/banner2560x512px.jpg
ORGANIZER;CN="European Brain Council":MAILTO:advocacy@braincouncil.eu
END:VEVENT
BEGIN:VEVENT
DTSTART;TZID=UTC:20240924T123500
DTEND;TZID=UTC:20240924T140000
DTSTAMP:20260422T184551
CREATED:20240708T123418Z
LAST-MODIFIED:20240729T094323Z
UID:54838-1727181300-1727186400@www.braincouncil.eu
SUMMARY:Rethinking Schizophrenia: Beyond the Voices | 37th ECNP Congress
DESCRIPTION:This year\, the EBC will have a pleasure to present a poster on the “Rethinking Schizophrenia: Beyond the Voices” project at 37th ECNP Congress. The presentation will take place on 24th of September between 12:35 and 14:00 at the Poster Area at the Milan Congress Venue. Additionally\, an ePoster will be available on the Congress platform. \nAbout Rethinking Schizophrenia\nRethinking Schizophrenia is a research-driven project offering tangible policy changes to improve the lives of people living with schizophrenia across Europe. It challenges the status quo and refreshes the European policy debate on people living with schizophrenia and encourages multi-stakeholder-driven policy. The project falls under #BeyondTheVoices campaign. \nLEARN MORE ABOUT RETHINKING SCHIZOPHRENIA PROJECTSpeakerKristien AartsChief Research & Innovation Officer\, European Brain Council Kristien has been part of the European Brain Council since 2019 where she currently leads the research team. In this strategic role\, Kristien plays a pivotal role in ensuring that the organization’s work is grounded in scientific evidence\, research\, and innovation. \nHer responsibilities include monitoring research funding\, project applications\, overseeing EU-funded projects\, and developing a rare brain disease ecosystem. She also manages the Brain Innovation Days program and is actively creating an evidence-based brain health toolbox for the team. \nKristien has a PhD in Psychology from Ghent University (Belgium). With diverse experience at Lyon Neuroscience Research Center\, the European Health Management Association and the University of Utrecht\, Kristien brings expertise in brain research\, neuropsychology\, emotion\, cognition\, multisensory processing\, mindfulness\, clinical research management\, and EU-project management. \nLEARN MORE ABOUT EBC AT ECNP CONGRESS
URL:https://www.braincouncil.eu/event/rethinking-schizophrenia-beyond-the-voices-37th-ecnp-congress/
LOCATION:Allianz MiCo\, Piazzale Carlo Magno\, 1/Gate 16\, Milano\, 20149\, Italy
ATTACH;FMTTYPE=image/jpeg:https://www.braincouncil.eu/wp-content/uploads/2024/01/banner2560x512px.jpg
END:VEVENT
BEGIN:VEVENT
DTSTART;TZID=UTC:20240925T161500
DTEND;TZID=UTC:20240925T174500
DTSTAMP:20260422T184551
CREATED:20240725T061404Z
LAST-MODIFIED:20240925T061755Z
UID:54934-1727280900-1727286300@www.braincouncil.eu
SUMMARY:Promoting Brain Health for Everyone\, Towards a More Sustainable and Healthy Future
DESCRIPTION:From 24 – 27 September\, the hybrid European Health Forum Gastein (EHFG)\, guided by the theme “Shifting sands of health”\, will explore solutions for the complex interplay of democracy\, demographics\, and digitalisation in Europe’s evolving health landscape. The EHFG 2024 is co-organised by the Austrian Federal Ministry for Social Affairs\, Health\, Care and Consumer Protection\, in collaboration with the World Health Organization Regional Office for Europe\, and with support from the European Union. The EHFG 2024 will hold a consultation process with participants to collaboratively develop a priority letter on health to the next European Commission. \nEBC will take part in a session organized by the European Academy of Neurology (EAN)\, titled “Promoting Brain Health for Everyone: Towards a Sustainable and Healthy Future” at the hybrid EHFG 2024 on 25 September. \nAccording to the latest studies\, more than 43% of the global population has a neurological disorder and estimates for mental health are 25%. The combined burden of brain disorders represents a major challenge. This requires a holistic concept of brain health which places an emphasis on prevention\, optimising quality of life\, and on addressing neurological and psychiatric comorbidities. This session will explore the multifaceted concept of brain health\, emphasising its impact on healthcare systems\, economic well-being\, and societal health. \nBuilding on recent research and initiatives\, the session will highlight the importance of integrating brain health into national public health policies. Expert panel discussions will address demographic shifts\, economic implications\, and innovative policies needed to support brain health. Participants will gain insights from national strategies\, such as the Swiss Brain Health Plan\, and explore how European-level efforts are shaping the future of brain health. \nBy bringing together perspectives from science\, academia\, public sector\, and civil society\, the session aims to foster collaborative approaches and policy interventions. \nLearn moreRegister
URL:https://www.braincouncil.eu/event/european-health-forum-gastein/
LOCATION:Private: EU Health Forum Gastein\, Kursaal Room\, Tauernplatz 1\, Bad Hofgastein\, 5630\, Austria
ATTACH;FMTTYPE=image/png:https://www.braincouncil.eu/wp-content/uploads/2024/07/Event-Banners-3.png
END:VEVENT
END:VCALENDAR